BEGIN:VCALENDAR
VERSION:2.0
PRODID:-//horsealert.local//NONSGML kigkonsult.se iCalcreator 2.10.5//
CALSCALE:GREGORIAN
X-WR-TIMEZONE:Europe/Dublin
BEGIN:VTIMEZONE
TZID:Etc/GMT-1
BEGIN:STANDARD
DTSTART:20010101T000000
TZOFFSETFROM:+0100
TZOFFSETTO:+0100
TZNAME:GMT +01:00
END:STANDARD
END:VTIMEZONE
BEGIN:VEVENT
UID:20260423T071755CEST-5744st2oX5@horsealert.local
DTSTAMP:20260423T050455Z
CATEGORIES:Horse Alerts
DESCRIPTION:mytotepool.com Thoroughbred Breeders' Association Mares' Handic
 ap Hurdle
DTSTART:20151112T134000
LOCATION:England
SUMMARY:Horse Racing:mytotepool.com Thoroughbred Breeders' Association Mare
 s' Handicap Hurdle
END:VEVENT
END:VCALENDAR
