BEGIN:VCALENDAR
VERSION:2.0
PRODID:-//horsealert.local//NONSGML kigkonsult.se iCalcreator 2.10.5//
CALSCALE:GREGORIAN
X-WR-TIMEZONE:Europe/Dublin
BEGIN:VTIMEZONE
TZID:Etc/GMT-1
BEGIN:STANDARD
DTSTART:20010101T000000
TZOFFSETFROM:+0100
TZOFFSETTO:+0100
TZNAME:GMT +01:00
END:STANDARD
END:VTIMEZONE
BEGIN:VEVENT
UID:20260423T071924CEST-65687O7uIi@horsealert.local
DTSTAMP:20260423T050424Z
CATEGORIES:Horse Alerts
DESCRIPTION:Newcastle Flooring Novices' Hurdle (Betfred Hurdle Series Quali
 fier)
DTSTART:20151110T132000
LOCATION:England
SUMMARY:Horse Racing:Newcastle Flooring Novices' Hurdle (Betfred Hurdle Ser
 ies Qualifier)
END:VEVENT
END:VCALENDAR
