BEGIN:VCALENDAR
VERSION:2.0
PRODID:-//horsealert.local//NONSGML kigkonsult.se iCalcreator 2.10.5//
CALSCALE:GREGORIAN
X-WR-TIMEZONE:Europe/Dublin
BEGIN:VTIMEZONE
TZID:Etc/GMT-1
BEGIN:STANDARD
DTSTART:20010101T000000
TZOFFSETFROM:+0100
TZOFFSETTO:+0100
TZNAME:GMT +01:00
END:STANDARD
END:VTIMEZONE
BEGIN:VEVENT
UID:20260423T071914CEST-9108XTocE4@horsealert.local
DTSTAMP:20260423T050414Z
CATEGORIES:Horse Alerts
DESCRIPTION:Money Back 2nd At titanbet.co.uk Handicap Hurdle
DTSTART:20151110T130000
LOCATION:England
SUMMARY:Horse Racing:Money Back 2nd At titanbet.co.uk Handicap Hurdle
END:VEVENT
END:VCALENDAR
