BEGIN:VCALENDAR
VERSION:2.0
PRODID:-//horsealert.local//NONSGML kigkonsult.se iCalcreator 2.10.5//
CALSCALE:GREGORIAN
X-WR-TIMEZONE:Europe/Dublin
BEGIN:VTIMEZONE
TZID:Etc/GMT-1
BEGIN:STANDARD
DTSTART:20010101T000000
TZOFFSETFROM:+0100
TZOFFSETTO:+0100
TZNAME:GMT +01:00
END:STANDARD
END:VTIMEZONE
BEGIN:VEVENT
UID:20260423T071822CEST-6250cx3bho@horsealert.local
DTSTAMP:20260423T050422Z
CATEGORIES:Horse Alerts
DESCRIPTION:Tom Jones Memorial HTJ Centre Ltd Chase (Novices' Limited Handi
 cap)
DTSTART:20151110T144000
LOCATION:England
SUMMARY:Horse Racing:Tom Jones Memorial HTJ Centre Ltd Chase (Novices' Limi
 ted Handicap)
END:VEVENT
END:VCALENDAR
