BEGIN:VCALENDAR
VERSION:2.0
PRODID:-//horsealert.local//NONSGML kigkonsult.se iCalcreator 2.10.5//
CALSCALE:GREGORIAN
X-WR-TIMEZONE:Europe/Dublin
BEGIN:VTIMEZONE
TZID:Etc/GMT-1
BEGIN:STANDARD
DTSTART:20010101T000000
TZOFFSETFROM:+0100
TZOFFSETTO:+0100
TZNAME:GMT +01:00
END:STANDARD
END:VTIMEZONE
BEGIN:VEVENT
UID:20260423T071824CEST-7512j65TEj@horsealert.local
DTSTAMP:20260423T050424Z
CATEGORIES:Horse Alerts
DESCRIPTION:Download Paddy Power's Super-Fast Messenger App Beginners Chase
DTSTART:20151107T143500
LOCATION:Eire
SUMMARY:Horse Racing:Download Paddy Power's Super-Fast Messenger App Beginn
 ers Chase
END:VEVENT
END:VCALENDAR
