BEGIN:VCALENDAR
VERSION:2.0
PRODID:-//horsealert.local//NONSGML kigkonsult.se iCalcreator 2.10.5//
CALSCALE:GREGORIAN
X-WR-TIMEZONE:Europe/Dublin
BEGIN:VTIMEZONE
TZID:Etc/GMT-1
BEGIN:STANDARD
DTSTART:20010101T000000
TZOFFSETFROM:+0100
TZOFFSETTO:+0100
TZNAME:GMT +01:00
END:STANDARD
END:VTIMEZONE
BEGIN:VEVENT
UID:20260423T071752CEST-0066BGrJTb@horsealert.local
DTSTAMP:20260423T050452Z
CATEGORIES:Horse Alerts
DESCRIPTION:Stratstone Land Rover Supports Riding For The Disabled Novices'
  Limited Handicap Chase
DTSTART:20151104T141500
LOCATION:Wales
SUMMARY:Horse Racing:Stratstone Land Rover Supports Riding For The Disabled
  Novices' Limited Handicap Chase
END:VEVENT
END:VCALENDAR
