BEGIN:VCALENDAR
VERSION:2.0
PRODID:-//horsealert.local//NONSGML kigkonsult.se iCalcreator 2.10.5//
CALSCALE:GREGORIAN
X-WR-TIMEZONE:Europe/Dublin
BEGIN:VTIMEZONE
TZID:Etc/GMT-1
BEGIN:STANDARD
DTSTART:20010101T000000
TZOFFSETFROM:+0100
TZOFFSETTO:+0100
TZNAME:GMT +01:00
END:STANDARD
END:VTIMEZONE
BEGIN:VEVENT
UID:20260423T085017CEST-4230IWSIHv@horsealert.local
DTSTAMP:20260423T060417Z
CATEGORIES:Horse Alerts
DESCRIPTION:fasPrint Maiden Hurdle
DTSTART:20151031T131500
LOCATION:Scotland
SUMMARY:Horse Racing:fasPrint Maiden Hurdle
END:VEVENT
END:VCALENDAR
