BEGIN:VCALENDAR
VERSION:2.0
PRODID:-//horsealert.local//NONSGML kigkonsult.se iCalcreator 2.10.5//
CALSCALE:GREGORIAN
X-WR-TIMEZONE:Europe/Dublin
BEGIN:VTIMEZONE
TZID:Etc/GMT-1
BEGIN:STANDARD
DTSTART:20010101T000000
TZOFFSETFROM:+0100
TZOFFSETTO:+0100
TZNAME:GMT +01:00
END:STANDARD
END:VTIMEZONE
BEGIN:VEVENT
UID:20260423T071511CEST-7985pa9KGV@horsealert.local
DTSTAMP:20260423T050411Z
CATEGORIES:Horse Alerts
DESCRIPTION:Tegral Supporting Kildare GAA Brown Lad Handicap Hurdle (Grade 
 C)
DTSTART:20151101T155500
LOCATION:Eire
SUMMARY:Horse Racing:Tegral Supporting Kildare GAA Brown Lad Handicap Hurdl
 e (Grade C)
END:VEVENT
END:VCALENDAR
