BEGIN:VCALENDAR
VERSION:2.0
PRODID:-//horsealert.local//NONSGML kigkonsult.se iCalcreator 2.10.5//
CALSCALE:GREGORIAN
X-WR-TIMEZONE:Europe/Dublin
BEGIN:VTIMEZONE
TZID:Etc/GMT-1
BEGIN:STANDARD
DTSTART:20010101T000000
TZOFFSETFROM:+0100
TZOFFSETTO:+0100
TZNAME:GMT +01:00
END:STANDARD
END:VTIMEZONE
BEGIN:VEVENT
UID:20260423T085318CEST-5834busnkX@horsealert.local
DTSTAMP:20260423T060418Z
CATEGORIES:Horse Alerts
DESCRIPTION:Watch On The Racing UK App Conditional Jockeys' Novices' Handic
 ap Hurdle
DTSTART:20151030T160000
LOCATION:England
SUMMARY:Horse Racing:Watch On The Racing UK App Conditional Jockeys' Novice
 s' Handicap Hurdle
END:VEVENT
END:VCALENDAR
