BEGIN:VCALENDAR
VERSION:2.0
PRODID:-//horsealert.local//NONSGML kigkonsult.se iCalcreator 2.10.5//
CALSCALE:GREGORIAN
X-WR-TIMEZONE:Europe/Dublin
BEGIN:VTIMEZONE
TZID:Etc/GMT-1
BEGIN:STANDARD
DTSTART:20010101T000000
TZOFFSETFROM:+0100
TZOFFSETTO:+0100
TZNAME:GMT +01:00
END:STANDARD
END:VTIMEZONE
BEGIN:VEVENT
UID:20260423T085305CEST-9271IJkIHK@horsealert.local
DTSTAMP:20260423T060405Z
CATEGORIES:Horse Alerts
DESCRIPTION:Wetherby Whaler Garry Schofield Testimonial 'National Hunt' Nov
 ices' Hurdle
DTSTART:20151030T130500
LOCATION:England
SUMMARY:Horse Racing:Wetherby Whaler Garry Schofield Testimonial 'National 
 Hunt' Novices' Hurdle
END:VEVENT
END:VCALENDAR
