BEGIN:VCALENDAR
VERSION:2.0
PRODID:-//horsealert.local//NONSGML kigkonsult.se iCalcreator 2.10.5//
CALSCALE:GREGORIAN
X-WR-TIMEZONE:Europe/Dublin
BEGIN:VTIMEZONE
TZID:Etc/GMT-1
BEGIN:STANDARD
DTSTART:20010101T000000
TZOFFSETFROM:+0100
TZOFFSETTO:+0100
TZNAME:GMT +01:00
END:STANDARD
END:VTIMEZONE
BEGIN:VEVENT
UID:20260423T085135CEST-0948j3WE6C@horsealert.local
DTSTAMP:20260423T060435Z
CATEGORIES:Horse Alerts
DESCRIPTION:Download The At The Races App Rated Chase
DTSTART:20151029T152500
LOCATION:Eire
SUMMARY:Horse Racing:Download The At The Races App Rated Chase
END:VEVENT
END:VCALENDAR
