BEGIN:VCALENDAR
VERSION:2.0
PRODID:-//horsealert.local//NONSGML kigkonsult.se iCalcreator 2.10.5//
CALSCALE:GREGORIAN
X-WR-TIMEZONE:Europe/Dublin
BEGIN:VTIMEZONE
TZID:Etc/GMT-1
BEGIN:STANDARD
DTSTART:20010101T000000
TZOFFSETFROM:+0100
TZOFFSETTO:+0100
TZNAME:GMT +01:00
END:STANDARD
END:VTIMEZONE
BEGIN:VEVENT
UID:20260423T104923CEST-2483BHVPcg@horsealert.local
DTSTAMP:20260423T080423Z
CATEGORIES:Horse Alerts
DESCRIPTION:Longines Breeders' Cup Distaff (Fillies' Grade 1) (Dirt)
DTSTART:20151030T213500
LOCATION:USA
SUMMARY:Horse Racing:Longines Breeders' Cup Distaff (Fillies' Grade 1) (Dir
 t)
END:VEVENT
END:VCALENDAR
