BEGIN:VCALENDAR
VERSION:2.0
PRODID:-//horsealert.local//NONSGML kigkonsult.se iCalcreator 2.10.5//
CALSCALE:GREGORIAN
X-WR-TIMEZONE:Europe/Dublin
BEGIN:VTIMEZONE
TZID:Etc/GMT-1
BEGIN:STANDARD
DTSTART:20010101T000000
TZOFFSETFROM:+0100
TZOFFSETTO:+0100
TZNAME:GMT +01:00
END:STANDARD
END:VTIMEZONE
BEGIN:VEVENT
UID:20260423T085018CEST-4335UtCp5Z@horsealert.local
DTSTAMP:20260423T060418Z
CATEGORIES:Horse Alerts
DESCRIPTION:Hotel & Racing Packages Available Median Auction Maiden Stakes
DTSTART:20151027T194000
LOCATION:England
SUMMARY:Horse Racing:Hotel & Racing Packages Available Median Auction Maide
 n Stakes
END:VEVENT
END:VCALENDAR
