BEGIN:VCALENDAR
VERSION:2.0
PRODID:-//horsealert.local//NONSGML kigkonsult.se iCalcreator 2.10.5//
CALSCALE:GREGORIAN
X-WR-TIMEZONE:Europe/Dublin
BEGIN:VTIMEZONE
TZID:Etc/GMT-1
BEGIN:STANDARD
DTSTART:20010101T000000
TZOFFSETFROM:+0100
TZOFFSETTO:+0100
TZNAME:GMT +01:00
END:STANDARD
END:VTIMEZONE
BEGIN:VEVENT
UID:20260423T085253CEST-8204SjaNKG@horsealert.local
DTSTAMP:20260423T060453Z
CATEGORIES:Horse Alerts
DESCRIPTION:Jump Season Next On December 2nd Handicap (Div 1)
DTSTART:20151027T155000
LOCATION:England
SUMMARY:Horse Racing:Jump Season Next On December 2nd Handicap (Div 1)
END:VEVENT
END:VCALENDAR
