BEGIN:VCALENDAR
VERSION:2.0
PRODID:-//horsealert.local//NONSGML kigkonsult.se iCalcreator 2.10.5//
CALSCALE:GREGORIAN
X-WR-TIMEZONE:Europe/Dublin
BEGIN:VTIMEZONE
TZID:Etc/GMT-1
BEGIN:STANDARD
DTSTART:20010101T000000
TZOFFSETFROM:+0100
TZOFFSETTO:+0100
TZNAME:GMT +01:00
END:STANDARD
END:VTIMEZONE
BEGIN:VEVENT
UID:20260423T085124CEST-0631Ix4PaJ@horsealert.local
DTSTAMP:20260423T060424Z
CATEGORIES:Horse Alerts
DESCRIPTION:W.B. Gavin & Co. E.B.F. Beginners Chase
DTSTART:20151026T135500
LOCATION:Eire
SUMMARY:Horse Racing:W.B. Gavin & Co. E.B.F. Beginners Chase
END:VEVENT
END:VCALENDAR
