BEGIN:VCALENDAR
VERSION:2.0
PRODID:-//horsealert.local//NONSGML kigkonsult.se iCalcreator 2.10.5//
CALSCALE:GREGORIAN
X-WR-TIMEZONE:Europe/Dublin
BEGIN:VTIMEZONE
TZID:Etc/GMT-1
BEGIN:STANDARD
DTSTART:20010101T000000
TZOFFSETFROM:+0100
TZOFFSETTO:+0100
TZNAME:GMT +01:00
END:STANDARD
END:VTIMEZONE
BEGIN:VEVENT
UID:20260423T085445CEST-0974XIf46Z@horsealert.local
DTSTAMP:20260423T060445Z
CATEGORIES:Horse Alerts
DESCRIPTION:Liverpool Horse Show January 2016 Conditional Jockeys' Handicap
  Hurdle
DTSTART:20151025T135500
LOCATION:England
SUMMARY:Horse Racing:Liverpool Horse Show January 2016 Conditional Jockeys'
  Handicap Hurdle
END:VEVENT
END:VCALENDAR
