BEGIN:VCALENDAR
VERSION:2.0
PRODID:-//horsealert.local//NONSGML kigkonsult.se iCalcreator 2.10.5//
CALSCALE:GREGORIAN
X-WR-TIMEZONE:Europe/Dublin
BEGIN:VTIMEZONE
TZID:Etc/GMT-1
BEGIN:STANDARD
DTSTART:20010101T000000
TZOFFSETFROM:+0100
TZOFFSETTO:+0100
TZNAME:GMT +01:00
END:STANDARD
END:VTIMEZONE
BEGIN:VEVENT
UID:20260423T085126CEST-8959o2MCne@horsealert.local
DTSTAMP:20260423T060426Z
CATEGORIES:Horse Alerts
DESCRIPTION:Worthington's Victoria Club Stakes (Registered As The St Simon 
 Stakes) (Group 3)
DTSTART:20151024T142500
LOCATION:England
SUMMARY:Horse Racing:Worthington's Victoria Club Stakes (Registered As The 
 St Simon Stakes) (Group 3)
END:VEVENT
END:VCALENDAR
