BEGIN:VCALENDAR
VERSION:2.0
PRODID:-//horsealert.local//NONSGML kigkonsult.se iCalcreator 2.10.5//
CALSCALE:GREGORIAN
X-WR-TIMEZONE:Europe/Dublin
BEGIN:VTIMEZONE
TZID:Etc/GMT-1
BEGIN:STANDARD
DTSTART:20010101T000000
TZOFFSETFROM:+0100
TZOFFSETTO:+0100
TZNAME:GMT +01:00
END:STANDARD
END:VTIMEZONE
BEGIN:VEVENT
UID:20260423T085128CEST-8366H4i7vz@horsealert.local
DTSTAMP:20260423T060428Z
CATEGORIES:Horse Alerts
DESCRIPTION:Betdaq 2% Commission British Stallion Studs EBF Maiden Stakes
DTSTART:20151023T143500
LOCATION:England
SUMMARY:Horse Racing:Betdaq 2% Commission British Stallion Studs EBF Maiden
  Stakes
END:VEVENT
END:VCALENDAR
