BEGIN:VCALENDAR
VERSION:2.0
PRODID:-//horsealert.local//NONSGML kigkonsult.se iCalcreator 2.10.5//
CALSCALE:GREGORIAN
X-WR-TIMEZONE:Europe/Dublin
BEGIN:VTIMEZONE
TZID:Etc/GMT-1
BEGIN:STANDARD
DTSTART:20010101T000000
TZOFFSETFROM:+0100
TZOFFSETTO:+0100
TZNAME:GMT +01:00
END:STANDARD
END:VTIMEZONE
BEGIN:VEVENT
UID:20260423T085438CEST-0934PKx7TV@horsealert.local
DTSTAMP:20260423T060438Z
CATEGORIES:Horse Alerts
DESCRIPTION:Amateur Jockeys' Association Amateur Riders' Handicap Chase
DTSTART:20151022T164500
LOCATION:England
SUMMARY:Horse Racing:Amateur Jockeys' Association Amateur Riders' Handicap 
 Chase
END:VEVENT
END:VCALENDAR
