BEGIN:VCALENDAR
VERSION:2.0
PRODID:-//horsealert.local//NONSGML kigkonsult.se iCalcreator 2.10.5//
CALSCALE:GREGORIAN
X-WR-TIMEZONE:Europe/Dublin
BEGIN:VTIMEZONE
TZID:Etc/GMT-1
BEGIN:STANDARD
DTSTART:20010101T000000
TZOFFSETFROM:+0100
TZOFFSETTO:+0100
TZNAME:GMT +01:00
END:STANDARD
END:VTIMEZONE
BEGIN:VEVENT
UID:20260423T085021CEST-9790GvBGGb@horsealert.local
DTSTAMP:20260423T060421Z
CATEGORIES:Horse Alerts
DESCRIPTION:EPDS Racing Partnerships Supporting Racing Welfare Handicap Cha
 se
DTSTART:20151022T161500
LOCATION:England
SUMMARY:Horse Racing:EPDS Racing Partnerships Supporting Racing Welfare Han
 dicap Chase
END:VEVENT
END:VCALENDAR
