BEGIN:VCALENDAR
VERSION:2.0
PRODID:-//horsealert.local//NONSGML kigkonsult.se iCalcreator 2.10.5//
CALSCALE:GREGORIAN
X-WR-TIMEZONE:Europe/Dublin
BEGIN:VTIMEZONE
TZID:Etc/GMT-1
BEGIN:STANDARD
DTSTART:20010101T000000
TZOFFSETFROM:+0100
TZOFFSETTO:+0100
TZNAME:GMT +01:00
END:STANDARD
END:VTIMEZONE
BEGIN:VEVENT
UID:20260423T085321CEST-2066PC6hT6@horsealert.local
DTSTAMP:20260423T060421Z
CATEGORIES:Horse Alerts
DESCRIPTION:newburyracecourse.co.uk 'Hands And Heels' Apprentice Series Fin
 al Handicap
DTSTART:20151023T171500
LOCATION:England
SUMMARY:Horse Racing:newburyracecourse.co.uk 'Hands And Heels' Apprentice S
 eries Final Handicap
END:VEVENT
END:VCALENDAR
