BEGIN:VCALENDAR
VERSION:2.0
PRODID:-//horsealert.local//NONSGML kigkonsult.se iCalcreator 2.10.5//
CALSCALE:GREGORIAN
X-WR-TIMEZONE:Europe/Dublin
BEGIN:VTIMEZONE
TZID:Etc/GMT-1
BEGIN:STANDARD
DTSTART:20010101T000000
TZOFFSETFROM:+0100
TZOFFSETTO:+0100
TZNAME:GMT +01:00
END:STANDARD
END:VTIMEZONE
BEGIN:VEVENT
UID:20260423T085415CEST-23256TF4XU@horsealert.local
DTSTAMP:20260423T060415Z
CATEGORIES:Horse Alerts
DESCRIPTION:Mike Ashton Is Nearly 60 Mares' Novices' Hurdle
DTSTART:20151021T160000
LOCATION:England
SUMMARY:Horse Racing:Mike Ashton Is Nearly 60 Mares' Novices' Hurdle
END:VEVENT
END:VCALENDAR
