BEGIN:VCALENDAR
VERSION:2.0
PRODID:-//horsealert.local//NONSGML kigkonsult.se iCalcreator 2.10.5//
CALSCALE:GREGORIAN
X-WR-TIMEZONE:Europe/Dublin
BEGIN:VTIMEZONE
TZID:Etc/GMT-1
BEGIN:STANDARD
DTSTART:20010101T000000
TZOFFSETFROM:+0100
TZOFFSETTO:+0100
TZNAME:GMT +01:00
END:STANDARD
END:VTIMEZONE
BEGIN:VEVENT
UID:20260423T085119CEST-4160zU47Uk@horsealert.local
DTSTAMP:20260423T060419Z
CATEGORIES:Horse Alerts
DESCRIPTION:Racing UK Profits Returned To Racing Amateur Riders' Novices' H
 urdle
DTSTART:20151020T141000
LOCATION:England
SUMMARY:Horse Racing:Racing UK Profits Returned To Racing Amateur Riders' N
 ovices' Hurdle
END:VEVENT
END:VCALENDAR
