BEGIN:VCALENDAR
VERSION:2.0
PRODID:-//horsealert.local//NONSGML kigkonsult.se iCalcreator 2.10.5//
CALSCALE:GREGORIAN
X-WR-TIMEZONE:Europe/Dublin
BEGIN:VTIMEZONE
TZID:Etc/GMT-1
BEGIN:STANDARD
DTSTART:20010101T000000
TZOFFSETFROM:+0100
TZOFFSETTO:+0100
TZNAME:GMT +01:00
END:STANDARD
END:VTIMEZONE
BEGIN:VEVENT
UID:20260423T104140CEST-6034ml1l3C@horsealert.local
DTSTAMP:20260423T080440Z
CATEGORIES:Horse Alerts
DESCRIPTION:Proludic Play & Sports Maiden Stakes
DTSTART:20151020T174000
LOCATION:England
SUMMARY:Horse Racing:Proludic Play & Sports Maiden Stakes
END:VEVENT
END:VCALENDAR
