BEGIN:VCALENDAR
VERSION:2.0
PRODID:-//horsealert.local//NONSGML kigkonsult.se iCalcreator 2.10.5//
CALSCALE:GREGORIAN
X-WR-TIMEZONE:Europe/Dublin
BEGIN:VTIMEZONE
TZID:Etc/GMT-1
BEGIN:STANDARD
DTSTART:20010101T000000
TZOFFSETFROM:+0100
TZOFFSETTO:+0100
TZNAME:GMT +01:00
END:STANDARD
END:VTIMEZONE
BEGIN:VEVENT
UID:20260423T085417CEST-1613i51uI4@horsealert.local
DTSTAMP:20260423T060417Z
CATEGORIES:Horse Alerts
DESCRIPTION:Betfair Proud Supporters Of Moorcroft Novices' Handicap Chase
DTSTART:20151019T170000
LOCATION:England
SUMMARY:Horse Racing:Betfair Proud Supporters Of Moorcroft Novices' Handica
 p Chase
END:VEVENT
END:VCALENDAR
