BEGIN:VCALENDAR
VERSION:2.0
PRODID:-//horsealert.local//NONSGML kigkonsult.se iCalcreator 2.10.5//
CALSCALE:GREGORIAN
X-WR-TIMEZONE:Europe/Dublin
BEGIN:VTIMEZONE
TZID:Etc/GMT-1
BEGIN:STANDARD
DTSTART:20010101T000000
TZOFFSETFROM:+0100
TZOFFSETTO:+0100
TZNAME:GMT +01:00
END:STANDARD
END:VTIMEZONE
BEGIN:VEVENT
UID:20260423T085444CEST-1809VI7crh@horsealert.local
DTSTAMP:20260423T060444Z
CATEGORIES:Horse Alerts
DESCRIPTION:mytotepool.com Phil Bull Trophy Conditions Stakes (Round 8 Of P
 ontefract Stayers Championship 2015)
DTSTART:20151019T164000
LOCATION:England
SUMMARY:Horse Racing:mytotepool.com Phil Bull Trophy Conditions Stakes (Rou
 nd 8 Of Pontefract Stayers Championship 2015)
END:VEVENT
END:VCALENDAR
