BEGIN:VCALENDAR
VERSION:2.0
PRODID:-//horsealert.local//NONSGML kigkonsult.se iCalcreator 2.10.5//
CALSCALE:GREGORIAN
X-WR-TIMEZONE:Europe/Dublin
BEGIN:VTIMEZONE
TZID:Etc/GMT-1
BEGIN:STANDARD
DTSTART:20010101T000000
TZOFFSETFROM:+0100
TZOFFSETTO:+0100
TZNAME:GMT +01:00
END:STANDARD
END:VTIMEZONE
BEGIN:VEVENT
UID:20260423T085322CEST-21858USHTH@horsealert.local
DTSTAMP:20260423T060422Z
CATEGORIES:Horse Alerts
DESCRIPTION:Award Winning Fine Dining At Horizons Maiden Fillies' Stakes (P
 lus 10)
DTSTART:20151013T173500
LOCATION:England
SUMMARY:Horse Racing:Award Winning Fine Dining At Horizons Maiden Fillies' 
 Stakes (Plus 10)
END:VEVENT
END:VCALENDAR
