BEGIN:VCALENDAR
VERSION:2.0
PRODID:-//horsealert.local//NONSGML kigkonsult.se iCalcreator 2.10.5//
CALSCALE:GREGORIAN
X-WR-TIMEZONE:Europe/Dublin
BEGIN:VTIMEZONE
TZID:Etc/GMT-1
BEGIN:STANDARD
DTSTART:20010101T000000
TZOFFSETFROM:+0100
TZOFFSETTO:+0100
TZNAME:GMT +01:00
END:STANDARD
END:VTIMEZONE
BEGIN:VEVENT
UID:20260423T085319CEST-3903EHsj9D@horsealert.local
DTSTAMP:20260423T060419Z
CATEGORIES:Horse Alerts
DESCRIPTION:Racing UK 1 Price 3 Devices Median Auction Maiden Stakes
DTSTART:20151013T153000
LOCATION:Scotland
SUMMARY:Horse Racing:Racing UK 1 Price 3 Devices Median Auction Maiden Stak
 es
END:VEVENT
END:VCALENDAR
