BEGIN:VCALENDAR
VERSION:2.0
PRODID:-//horsealert.local//NONSGML kigkonsult.se iCalcreator 2.10.5//
CALSCALE:GREGORIAN
X-WR-TIMEZONE:Europe/Dublin
BEGIN:VTIMEZONE
TZID:Etc/GMT-1
BEGIN:STANDARD
DTSTART:20010101T000000
TZOFFSETFROM:+0100
TZOFFSETTO:+0100
TZNAME:GMT +01:00
END:STANDARD
END:VTIMEZONE
BEGIN:VEVENT
UID:20260423T085331CEST-6660MPCuDt@horsealert.local
DTSTAMP:20260423T060431Z
CATEGORIES:Horse Alerts
DESCRIPTION:ebfstallions.com Reference Point Maiden Stakes (Stallion-Restri
 cted) (Plus 10)
DTSTART:20151013T162000
LOCATION:England
SUMMARY:Horse Racing:ebfstallions.com Reference Point Maiden Stakes (Stalli
 on-Restricted) (Plus 10)
END:VEVENT
END:VCALENDAR
