BEGIN:VCALENDAR
VERSION:2.0
PRODID:-//horsealert.local//NONSGML kigkonsult.se iCalcreator 2.10.5//
CALSCALE:GREGORIAN
X-WR-TIMEZONE:Europe/Dublin
BEGIN:VTIMEZONE
TZID:Etc/GMT-1
BEGIN:STANDARD
DTSTART:20010101T000000
TZOFFSETFROM:+0100
TZOFFSETTO:+0100
TZNAME:GMT +01:00
END:STANDARD
END:VTIMEZONE
BEGIN:VEVENT
UID:20260423T085202CEST-22692KOamb@horsealert.local
DTSTAMP:20260423T060402Z
CATEGORIES:Horse Alerts
DESCRIPTION:Bathwick Tyres British Stallion Studs EBF Maiden Fillies' Stake
 s (Plus 10) (Div 2)
DTSTART:20151012T152000
LOCATION:England
SUMMARY:Horse Racing:Bathwick Tyres British Stallion Studs EBF Maiden Filli
 es' Stakes (Plus 10) (Div 2)
END:VEVENT
END:VCALENDAR
