BEGIN:VCALENDAR
VERSION:2.0
PRODID:-//horsealert.local//NONSGML kigkonsult.se iCalcreator 2.10.5//
CALSCALE:GREGORIAN
X-WR-TIMEZONE:Europe/Dublin
BEGIN:VTIMEZONE
TZID:Etc/GMT-1
BEGIN:STANDARD
DTSTART:20010101T000000
TZOFFSETFROM:+0100
TZOFFSETTO:+0100
TZNAME:GMT +01:00
END:STANDARD
END:VTIMEZONE
BEGIN:VEVENT
UID:20260423T090537CEST-1541TOg23p@horsealert.local
DTSTAMP:20260423T070437Z
CATEGORIES:Horse Alerts
DESCRIPTION:Waterford Testimonial Stakes For The Defence Forces Cup (Listed
 )
DTSTART:20151011T142500
LOCATION:Eire
SUMMARY:Horse Racing:Waterford Testimonial Stakes For The Defence Forces Cu
 p (Listed)
END:VEVENT
END:VCALENDAR
