BEGIN:VCALENDAR
VERSION:2.0
PRODID:-//horsealert.local//NONSGML kigkonsult.se iCalcreator 2.10.5//
CALSCALE:GREGORIAN
X-WR-TIMEZONE:Europe/Dublin
BEGIN:VTIMEZONE
TZID:Etc/GMT-1
BEGIN:STANDARD
DTSTART:20010101T000000
TZOFFSETFROM:+0100
TZOFFSETTO:+0100
TZNAME:GMT +01:00
END:STANDARD
END:VTIMEZONE
BEGIN:VEVENT
UID:20260423T085202CEST-7397pD7ftJ@horsealert.local
DTSTAMP:20260423T060402Z
CATEGORIES:Horse Alerts
DESCRIPTION:Waterford & Tramore Supporters Club Handicap Hurdle (80-95)
DTSTART:20151008T145000
LOCATION:Eire
SUMMARY:Horse Racing:Waterford & Tramore Supporters Club Handicap Hurdle (8
 0-95)
END:VEVENT
END:VCALENDAR
