BEGIN:VCALENDAR
VERSION:2.0
PRODID:-//horsealert.local//NONSGML kigkonsult.se iCalcreator 2.10.5//
CALSCALE:GREGORIAN
X-WR-TIMEZONE:Europe/Dublin
BEGIN:VTIMEZONE
TZID:Etc/GMT-1
BEGIN:STANDARD
DTSTART:20010101T000000
TZOFFSETFROM:+0100
TZOFFSETTO:+0100
TZNAME:GMT +01:00
END:STANDARD
END:VTIMEZONE
BEGIN:VEVENT
UID:20260423T085305CEST-8020pLcM3j@horsealert.local
DTSTAMP:20260423T060405Z
CATEGORIES:Horse Alerts
DESCRIPTION:RacingUK Club Day 19th October Bluff Cove Handicap (Round 7 Of 
 Pontefract Stayers Championship)
DTSTART:20151005T154000
LOCATION:England
SUMMARY:Horse Racing:RacingUK Club Day 19th October Bluff Cove Handicap (Ro
 und 7 Of Pontefract Stayers Championship)
END:VEVENT
END:VCALENDAR
