BEGIN:VCALENDAR
VERSION:2.0
PRODID:-//horsealert.local//NONSGML kigkonsult.se iCalcreator 2.10.5//
CALSCALE:GREGORIAN
X-WR-TIMEZONE:Europe/Dublin
BEGIN:VTIMEZONE
TZID:Etc/GMT-1
BEGIN:STANDARD
DTSTART:20010101T000000
TZOFFSETFROM:+0100
TZOFFSETTO:+0100
TZNAME:GMT +01:00
END:STANDARD
END:VTIMEZONE
BEGIN:VEVENT
UID:20260423T085307CEST-6519tEKtN0@horsealert.local
DTSTAMP:20260423T060407Z
CATEGORIES:Horse Alerts
DESCRIPTION:DEM Window Solutions Nursery
DTSTART:20151005T143500
LOCATION:England
SUMMARY:Horse Racing:DEM Window Solutions Nursery
END:VEVENT
END:VCALENDAR
