BEGIN:VCALENDAR
VERSION:2.0
PRODID:-//horsealert.local//NONSGML kigkonsult.se iCalcreator 2.10.5//
CALSCALE:GREGORIAN
X-WR-TIMEZONE:Europe/Dublin
BEGIN:VTIMEZONE
TZID:Etc/GMT-1
BEGIN:STANDARD
DTSTART:20010101T000000
TZOFFSETFROM:+0100
TZOFFSETTO:+0100
TZNAME:GMT +01:00
END:STANDARD
END:VTIMEZONE
BEGIN:VEVENT
UID:20260423T085201CEST-3391G1sFIS@horsealert.local
DTSTAMP:20260423T060401Z
CATEGORIES:Horse Alerts
DESCRIPTION:Qatar Prix De L'arc De Triomphe - Group 1
DTSTART:20151004T145500
LOCATION:France
SUMMARY:Horse Racing:Qatar Prix De L'arc De Triomphe - Group 1
END:VEVENT
END:VCALENDAR
