BEGIN:VCALENDAR
VERSION:2.0
PRODID:-//horsealert.local//NONSGML kigkonsult.se iCalcreator 2.10.5//
CALSCALE:GREGORIAN
X-WR-TIMEZONE:Europe/Dublin
BEGIN:VTIMEZONE
TZID:Etc/GMT-1
BEGIN:STANDARD
DTSTART:20010101T000000
TZOFFSETFROM:+0100
TZOFFSETTO:+0100
TZNAME:GMT +01:00
END:STANDARD
END:VTIMEZONE
BEGIN:VEVENT
UID:20260423T085249CEST-5725V4V8Vh@horsealert.local
DTSTAMP:20260423T060449Z
CATEGORIES:Horse Alerts
DESCRIPTION:Dains Accountants Handicap Hurdle (For The Royal Yeomanry Staff
 ordshire & Shropshire Cup)
DTSTART:20151004T163000
LOCATION:England
SUMMARY:Horse Racing:Dains Accountants Handicap Hurdle (For The Royal Yeoma
 nry Staffordshire & Shropshire Cup)
END:VEVENT
END:VCALENDAR
