BEGIN:VCALENDAR
VERSION:2.0
PRODID:-//horsealert.local//NONSGML kigkonsult.se iCalcreator 2.10.5//
CALSCALE:GREGORIAN
X-WR-TIMEZONE:Europe/Dublin
BEGIN:VTIMEZONE
TZID:Etc/GMT-1
BEGIN:STANDARD
DTSTART:20010101T000000
TZOFFSETFROM:+0100
TZOFFSETTO:+0100
TZNAME:GMT +01:00
END:STANDARD
END:VTIMEZONE
BEGIN:VEVENT
UID:20260423T085309CEST-8859PiIFkC@horsealert.local
DTSTAMP:20260423T060409Z
CATEGORIES:Horse Alerts
DESCRIPTION:A & S (Electrical Services) Handicap Chase (For The Queen's Roy
 al Lancers Challenge Cup)
DTSTART:20151004T155500
LOCATION:England
SUMMARY:Horse Racing:A & S (Electrical Services) Handicap Chase (For The Qu
 een's Royal Lancers Challenge Cup)
END:VEVENT
END:VCALENDAR
