BEGIN:VCALENDAR
VERSION:2.0
PRODID:-//horsealert.local//NONSGML kigkonsult.se iCalcreator 2.10.5//
CALSCALE:GREGORIAN
X-WR-TIMEZONE:Europe/Dublin
BEGIN:VTIMEZONE
TZID:Etc/GMT-1
BEGIN:STANDARD
DTSTART:20010101T000000
TZOFFSETFROM:+0100
TZOFFSETTO:+0100
TZNAME:GMT +01:00
END:STANDARD
END:VTIMEZONE
BEGIN:VEVENT
UID:20260423T085132CEST-6745Gcpivg@horsealert.local
DTSTAMP:20260423T060432Z
CATEGORIES:Horse Alerts
DESCRIPTION:BTU Supporting The Rainbow Centre Novices' Limited Handicap Cha
 se
DTSTART:20151003T144500
LOCATION:England
SUMMARY:Horse Racing:BTU Supporting The Rainbow Centre Novices' Limited Han
 dicap Chase
END:VEVENT
END:VCALENDAR
