BEGIN:VCALENDAR
VERSION:2.0
PRODID:-//horsealert.local//NONSGML kigkonsult.se iCalcreator 2.10.5//
CALSCALE:GREGORIAN
X-WR-TIMEZONE:Europe/Dublin
BEGIN:VTIMEZONE
TZID:Etc/GMT-1
BEGIN:STANDARD
DTSTART:20010101T000000
TZOFFSETFROM:+0100
TZOFFSETTO:+0100
TZNAME:GMT +01:00
END:STANDARD
END:VTIMEZONE
BEGIN:VEVENT
UID:20260423T085119CEST-5178Bcpn7m@horsealert.local
DTSTAMP:20260423T060419Z
CATEGORIES:Horse Alerts
DESCRIPTION:Save Our Steel EBF Stallions Maiden Stakes (Div 2)
DTSTART:20151003T142500
LOCATION:England
SUMMARY:Horse Racing:Save Our Steel EBF Stallions Maiden Stakes (Div 2)
END:VEVENT
END:VCALENDAR
