BEGIN:VCALENDAR
VERSION:2.0
PRODID:-//horsealert.local//NONSGML kigkonsult.se iCalcreator 2.10.5//
CALSCALE:GREGORIAN
X-WR-TIMEZONE:Europe/Dublin
BEGIN:VTIMEZONE
TZID:Etc/GMT-1
BEGIN:STANDARD
DTSTART:20010101T000000
TZOFFSETFROM:+0100
TZOFFSETTO:+0100
TZNAME:GMT +01:00
END:STANDARD
END:VTIMEZONE
BEGIN:VEVENT
UID:20260423T090716CEST-0219MO8uli@horsealert.local
DTSTAMP:20260423T070416Z
CATEGORIES:Horse Alerts
DESCRIPTION:Celebrate Your Birthday Or Anniversary At Hexham Handicap Chase
DTSTART:20151002T165000
LOCATION:England
SUMMARY:Horse Racing:Celebrate Your Birthday Or Anniversary At Hexham Handi
 cap Chase
END:VEVENT
END:VCALENDAR
