BEGIN:VCALENDAR
VERSION:2.0
PRODID:-//horsealert.local//NONSGML kigkonsult.se iCalcreator 2.10.5//
CALSCALE:GREGORIAN
X-WR-TIMEZONE:Europe/Dublin
BEGIN:VTIMEZONE
TZID:Etc/GMT-1
BEGIN:STANDARD
DTSTART:20010101T000000
TZOFFSETFROM:+0100
TZOFFSETTO:+0100
TZNAME:GMT +01:00
END:STANDARD
END:VTIMEZONE
BEGIN:VEVENT
UID:20260423T090634CEST-6310u73vgh@horsealert.local
DTSTAMP:20260423T070434Z
CATEGORIES:Horse Alerts
DESCRIPTION:Crowne Plaza Leading Jockey & Trainer Apprentice Handicap (55-7
 0)
DTSTART:20151002T183500
LOCATION:Eire
SUMMARY:Horse Racing:Crowne Plaza Leading Jockey & Trainer Apprentice Handi
 cap (55-70)
END:VEVENT
END:VCALENDAR
