BEGIN:VCALENDAR
VERSION:2.0
PRODID:-//horsealert.local//NONSGML kigkonsult.se iCalcreator 2.10.5//
CALSCALE:GREGORIAN
X-WR-TIMEZONE:Europe/Dublin
BEGIN:VTIMEZONE
TZID:Etc/GMT-1
BEGIN:STANDARD
DTSTART:20010101T000000
TZOFFSETFROM:+0100
TZOFFSETTO:+0100
TZNAME:GMT +01:00
END:STANDARD
END:VTIMEZONE
BEGIN:VEVENT
UID:20260423T085251CEST-49883Twi9O@horsealert.local
DTSTAMP:20260423T060451Z
CATEGORIES:Horse Alerts
DESCRIPTION:Warwick Racecourse Supporting Racing To School Maiden Hurdle
DTSTART:20151001T165500
LOCATION:England
SUMMARY:Horse Racing:Warwick Racecourse Supporting Racing To School Maiden 
 Hurdle
END:VEVENT
END:VCALENDAR
