BEGIN:VCALENDAR
VERSION:2.0
PRODID:-//horsealert.local//NONSGML kigkonsult.se iCalcreator 2.10.5//
CALSCALE:GREGORIAN
X-WR-TIMEZONE:Europe/Dublin
BEGIN:VTIMEZONE
TZID:Etc/GMT-1
BEGIN:STANDARD
DTSTART:20010101T000000
TZOFFSETFROM:+0100
TZOFFSETTO:+0100
TZNAME:GMT +01:00
END:STANDARD
END:VTIMEZONE
BEGIN:VEVENT
UID:20260423T085201CEST-0343nGAa2V@horsealert.local
DTSTAMP:20260423T060401Z
CATEGORIES:Horse Alerts
DESCRIPTION:Nire Valley Handicap Hurdle (80-109)
DTSTART:20151001T154000
LOCATION:Eire
SUMMARY:Horse Racing:Nire Valley Handicap Hurdle (80-109)
END:VEVENT
END:VCALENDAR
