BEGIN:VCALENDAR
VERSION:2.0
PRODID:-//horsealert.local//NONSGML kigkonsult.se iCalcreator 2.10.5//
CALSCALE:GREGORIAN
X-WR-TIMEZONE:Europe/Dublin
BEGIN:VTIMEZONE
TZID:Etc/GMT-1
BEGIN:STANDARD
DTSTART:20010101T000000
TZOFFSETFROM:+0100
TZOFFSETTO:+0100
TZNAME:GMT +01:00
END:STANDARD
END:VTIMEZONE
BEGIN:VEVENT
UID:20260423T104157CEST-6311ltCbvU@horsealert.local
DTSTAMP:20260423T080457Z
CATEGORIES:Horse Alerts
DESCRIPTION:10 Free Bet At 32RedSport.com Handicap (London Middle Distance 
 Series Qualifier)
DTSTART:20150930T204000
LOCATION:England
SUMMARY:Horse Racing:10 Free Bet At 32RedSport.com Handicap (London Middle 
 Distance Series Qualifier)
END:VEVENT
END:VCALENDAR
