BEGIN:VCALENDAR
VERSION:2.0
PRODID:-//horsealert.local//NONSGML kigkonsult.se iCalcreator 2.10.5//
CALSCALE:GREGORIAN
X-WR-TIMEZONE:Europe/Dublin
BEGIN:VTIMEZONE
TZID:Etc/GMT-1
BEGIN:STANDARD
DTSTART:20010101T000000
TZOFFSETFROM:+0100
TZOFFSETTO:+0100
TZNAME:GMT +01:00
END:STANDARD
END:VTIMEZONE
BEGIN:VEVENT
UID:20260423T104348CEST-1006HV9U1G@horsealert.local
DTSTAMP:20260423T080448Z
CATEGORIES:Horse Alerts
DESCRIPTION:Ladbrokes Conditional Jockeys' Training Series Handicap Hurdle 
 (Part of the Racing Excellence Initiative)
DTSTART:20150929T160500
LOCATION:England
SUMMARY:Horse Racing:Ladbrokes Conditional Jockeys' Training Series Handica
 p Hurdle (Part of the Racing Excellence Initiative)
END:VEVENT
END:VCALENDAR
