BEGIN:VCALENDAR
VERSION:2.0
PRODID:-//horsealert.local//NONSGML kigkonsult.se iCalcreator 2.10.5//
CALSCALE:GREGORIAN
X-WR-TIMEZONE:Europe/Dublin
BEGIN:VTIMEZONE
TZID:Etc/GMT-1
BEGIN:STANDARD
DTSTART:20010101T000000
TZOFFSETFROM:+0100
TZOFFSETTO:+0100
TZNAME:GMT +01:00
END:STANDARD
END:VTIMEZONE
BEGIN:VEVENT
UID:20260423T104507CEST-0099o8oGoX@horsealert.local
DTSTAMP:20260423T080407Z
CATEGORIES:Horse Alerts
DESCRIPTION:Your Clubs Fundraiser At Fairyhouse\, Enquire Today Apprentice 
 Handicap
DTSTART:20150929T155500
LOCATION:Eire
SUMMARY:Horse Racing:Your Clubs Fundraiser At Fairyhouse\, Enquire Today Ap
 prentice Handicap
END:VEVENT
END:VCALENDAR
