BEGIN:VCALENDAR
VERSION:2.0
PRODID:-//horsealert.local//NONSGML kigkonsult.se iCalcreator 2.10.5//
CALSCALE:GREGORIAN
X-WR-TIMEZONE:Europe/Dublin
BEGIN:VTIMEZONE
TZID:Etc/GMT-1
BEGIN:STANDARD
DTSTART:20010101T000000
TZOFFSETFROM:+0100
TZOFFSETTO:+0100
TZNAME:GMT +01:00
END:STANDARD
END:VTIMEZONE
BEGIN:VEVENT
UID:20260423T104740CEST-4709LxUbrX@horsealert.local
DTSTAMP:20260423T080440Z
CATEGORIES:Horse Alerts
DESCRIPTION:Watch On 3 Devices racinguk.com Anywhere Apprentice Training Se
 ries Handicap
DTSTART:20150929T173000
LOCATION:Scotland
SUMMARY:Horse Racing:Watch On 3 Devices racinguk.com Anywhere Apprentice Tr
 aining Series Handicap
END:VEVENT
END:VCALENDAR
