BEGIN:VCALENDAR
VERSION:2.0
PRODID:-//horsealert.local//NONSGML kigkonsult.se iCalcreator 2.10.5//
CALSCALE:GREGORIAN
X-WR-TIMEZONE:Europe/Dublin
BEGIN:VTIMEZONE
TZID:Etc/GMT-1
BEGIN:STANDARD
DTSTART:20010101T000000
TZOFFSETFROM:+0100
TZOFFSETTO:+0100
TZNAME:GMT +01:00
END:STANDARD
END:VTIMEZONE
BEGIN:VEVENT
UID:20260423T104745CEST-8209P8jF5n@horsealert.local
DTSTAMP:20260423T080445Z
CATEGORIES:Horse Alerts
DESCRIPTION:greenlighting.co.uk For A Brighter Life Novices' Hurdle
DTSTART:20150925T175000
LOCATION:England
SUMMARY:Horse Racing:greenlighting.co.uk For A Brighter Life Novices' Hurdl
 e
END:VEVENT
END:VCALENDAR
