BEGIN:VCALENDAR
VERSION:2.0
PRODID:-//horsealert.local//NONSGML kigkonsult.se iCalcreator 2.10.5//
CALSCALE:GREGORIAN
X-WR-TIMEZONE:Europe/Dublin
BEGIN:VTIMEZONE
TZID:Etc/GMT-1
BEGIN:STANDARD
DTSTART:20010101T000000
TZOFFSETFROM:+0100
TZOFFSETTO:+0100
TZNAME:GMT +01:00
END:STANDARD
END:VTIMEZONE
BEGIN:VEVENT
UID:20260423T104806CEST-4508kxK8st@horsealert.local
DTSTAMP:20260423T080406Z
CATEGORIES:Horse Alerts
DESCRIPTION:Hazelton Mountford Racehorse Trainers Insurance Intermediate Op
 en NH Flat Race (Div 1)
DTSTART:20150925T153000
LOCATION:England
SUMMARY:Horse Racing:Hazelton Mountford Racehorse Trainers Insurance Interm
 ediate Open NH Flat Race (Div 1)
END:VEVENT
END:VCALENDAR
