BEGIN:VCALENDAR
VERSION:2.0
PRODID:-//horsealert.local//NONSGML kigkonsult.se iCalcreator 2.10.5//
CALSCALE:GREGORIAN
X-WR-TIMEZONE:Europe/Dublin
BEGIN:VTIMEZONE
TZID:Etc/GMT-1
BEGIN:STANDARD
DTSTART:20010101T000000
TZOFFSETFROM:+0100
TZOFFSETTO:+0100
TZNAME:GMT +01:00
END:STANDARD
END:VTIMEZONE
BEGIN:VEVENT
UID:20260423T105042CEST-3016hNu74u@horsealert.local
DTSTAMP:20260423T080442Z
CATEGORIES:Horse Alerts
DESCRIPTION:Hospitality At Naas Fillies Maiden
DTSTART:20150923T174000
LOCATION:Eire
SUMMARY:Horse Racing:Hospitality At Naas Fillies Maiden
END:VEVENT
END:VCALENDAR
